BEGIN:VCALENDAR
PRODID:-//eluceo/ical//2.0/EN
VERSION:2.0
CALSCALE:GREGORIAN
BEGIN:VEVENT
UID:5ce5acb9daa4f79d3f3aacce9a9d44c3
DTSTAMP:20260422T095205Z
SUMMARY:12:15 Referat / Besuch Governor Klemm
DESCRIPTION:Talare: Governor DG Urs Klemm\, RC Aarau
URL:https://rotary-heitersberg.ch/sv/agenda/show/42626
DTSTART;TZID=Europe/Zurich:20140918T000000
DTEND;TZID=Europe/Zurich:20140918T000000
LOCATION:Gasthof Sternen
CATEGORIES:Rotary
END:VEVENT
BEGIN:VTIMEZONE
TZID:Europe/Zurich
BEGIN:DAYLIGHT
DTSTART:20140918T000000
TZNAME:CEST
TZOFFSETTO:+0200
TZOFFSETFROM:+0200
END:DAYLIGHT
END:VTIMEZONE
END:VCALENDAR
