BEGIN:VCALENDAR
PRODID:-//eluceo/ical//2.0/EN
VERSION:2.0
CALSCALE:GREGORIAN
BEGIN:VEVENT
UID:2efc965694b9903477019d4142eeab2a
DTSTAMP:20260419T154719Z
SUMMARY:12:15 Plauderlunch
DESCRIPTION:
URL:https://rotary-heitersberg.ch/sv/agenda/show/29850
DTSTART;TZID=Europe/Zurich:20130227T000000
DTEND;TZID=Europe/Zurich:20130227T000000
LOCATION:Gasthof Sternen
CATEGORIES:Rotary
END:VEVENT
BEGIN:VTIMEZONE
TZID:Europe/Zurich
BEGIN:STANDARD
DTSTART:20130227T000000
TZNAME:CET
TZOFFSETTO:+0100
TZOFFSETFROM:+0100
END:STANDARD
END:VTIMEZONE
END:VCALENDAR
