BEGIN:VCALENDAR
PRODID:-//eluceo/ical//2.0/EN
VERSION:2.0
CALSCALE:GREGORIAN
BEGIN:VEVENT
UID:6384a0e8af1bf24bc09151ed79d97e45
DTSTAMP:20260425T001856Z
SUMMARY:Kein Lunch Auffahrt
DESCRIPTION:
URL:https://rotary-heitersberg.ch/sv/agenda/show/28304
DTSTART;TZID=Europe/Zurich:20130509T000000
DTEND;TZID=Europe/Zurich:20130509T000000
LOCATION:Gasthof Sternen
CATEGORIES:Rotary
END:VEVENT
BEGIN:VTIMEZONE
TZID:Europe/Zurich
BEGIN:DAYLIGHT
DTSTART:20130509T000000
TZNAME:CEST
TZOFFSETTO:+0200
TZOFFSETFROM:+0200
END:DAYLIGHT
END:VTIMEZONE
END:VCALENDAR
