BEGIN:VCALENDAR
PRODID:-//eluceo/ical//2.0/EN
VERSION:2.0
CALSCALE:GREGORIAN
BEGIN:VEVENT
UID:c265d5c4709232bc70cd3336595f064e
DTSTAMP:20260424T144221Z
SUMMARY:Suppentag
DESCRIPTION:
URL:https://rotary-heitersberg.ch/nl/agenda/show/19261
DTSTART;TZID=Europe/Zurich:20111117T133000
DTEND;TZID=Europe/Zurich:20111117T133000
LOCATION:Zentrumsplatz Wettingen
CATEGORIES:Rotary
END:VEVENT
BEGIN:VTIMEZONE
TZID:Europe/Zurich
BEGIN:STANDARD
DTSTART:20111117T133000
TZNAME:CET
TZOFFSETTO:+0100
TZOFFSETFROM:+0100
END:STANDARD
END:VTIMEZONE
END:VCALENDAR
