BEGIN:VCALENDAR
PRODID:-//eluceo/ical//2.0/EN
VERSION:2.0
CALSCALE:GREGORIAN
BEGIN:VEVENT
UID:574335d5f50dbadc3c56d03e2fceabf5
DTSTAMP:20260421T120814Z
SUMMARY:Altersheimausflug
DESCRIPTION:
URL:https://rotary-heitersberg.ch/it/agenda/show/59808
DTSTART;TZID=Europe/Zurich:20160608T000000
DTEND;TZID=Europe/Zurich:20160608T000000
LOCATION:Gasthof Sternen
CATEGORIES:Rotary
END:VEVENT
BEGIN:VTIMEZONE
TZID:Europe/Zurich
BEGIN:DAYLIGHT
DTSTART:20160608T000000
TZNAME:CEST
TZOFFSETTO:+0200
TZOFFSETFROM:+0200
END:DAYLIGHT
END:VTIMEZONE
END:VCALENDAR
