BEGIN:VCALENDAR
PRODID:-//eluceo/ical//2.0/EN
VERSION:2.0
CALSCALE:GREGORIAN
BEGIN:VEVENT
UID:03692563b9e2900f9f20f985efd685e2
DTSTAMP:20260421T172027Z
SUMMARY:Golfturnier RC Wettingen-Heitersberg
DESCRIPTION:
URL:https://rotary-heitersberg.ch/it/agenda/show/59231
DTSTART;TZID=Europe/Zurich:20160816T000000
DTEND;TZID=Europe/Zurich:20160816T000000
LOCATION:Golfplatz Obere Alp
CATEGORIES:Rotary
END:VEVENT
BEGIN:VTIMEZONE
TZID:Europe/Zurich
BEGIN:DAYLIGHT
DTSTART:20160816T000000
TZNAME:CEST
TZOFFSETTO:+0200
TZOFFSETFROM:+0200
END:DAYLIGHT
END:VTIMEZONE
END:VCALENDAR
