BEGIN:VCALENDAR
PRODID:-//eluceo/ical//2.0/EN
VERSION:2.0
CALSCALE:GREGORIAN
BEGIN:VEVENT
UID:c659c5a61f8365ee108df4f7db2597ce
DTSTAMP:20260421T120945Z
SUMMARY:Lunch by Roland Michel Trotte Wettingen
DESCRIPTION:11.30 Uhr Apéro\n\nFührung\n\nAnschliessend Lunch in Trotte W
 ettingen
URL:https://rotary-heitersberg.ch/it/agenda/show/58444
DTSTART;TZID=Europe/Zurich:20160602T113000
DTEND;TZID=Europe/Zurich:20160602T113000
LOCATION:Trotte Wettingen
CATEGORIES:Rotary
END:VEVENT
BEGIN:VTIMEZONE
TZID:Europe/Zurich
BEGIN:DAYLIGHT
DTSTART:20160602T113000
TZNAME:CEST
TZOFFSETTO:+0200
TZOFFSETFROM:+0200
END:DAYLIGHT
END:VTIMEZONE
END:VCALENDAR
