BEGIN:VCALENDAR
PRODID:-//eluceo/ical//2.0/EN
VERSION:2.0
CALSCALE:GREGORIAN
BEGIN:VEVENT
UID:3f5f45cf4d1c83cff9e700d5d59e74a4
DTSTAMP:20260421T120523Z
SUMMARY: 10./11./12. Juni 2016  Rotary - Partnertreff 
DESCRIPTION:
URL:https://rotary-heitersberg.ch/it/agenda/show/54029
DTSTART;TZID=Europe/Zurich:20160610T000000
DTEND;TZID=Europe/Zurich:20160612T000000
LOCATION:in Abstatt Laufen / D
CATEGORIES:Rotary
END:VEVENT
BEGIN:VTIMEZONE
TZID:Europe/Zurich
BEGIN:DAYLIGHT
DTSTART:20160610T000000
TZNAME:CEST
TZOFFSETTO:+0200
TZOFFSETFROM:+0200
END:DAYLIGHT
END:VTIMEZONE
END:VCALENDAR
