BEGIN:VCALENDAR
PRODID:-//eluceo/ical//2.0/EN
VERSION:2.0
CALSCALE:GREGORIAN
BEGIN:VEVENT
UID:146e2226d9da34011288ab066695c175
DTSTAMP:20260421T152236Z
SUMMARY:10:30 Vorstandssitzung / 11:15 Kommissionen / 12:15 Plauderlunch
DESCRIPTION:
URL:https://rotary-heitersberg.ch/it/agenda/show/42611
DTSTART;TZID=Europe/Zurich:20150611T000000
DTEND;TZID=Europe/Zurich:20150611T000000
LOCATION:Gasthof Sternen
CATEGORIES:Rotary
END:VEVENT
BEGIN:VTIMEZONE
TZID:Europe/Zurich
BEGIN:DAYLIGHT
DTSTART:20150611T000000
TZNAME:CEST
TZOFFSETTO:+0200
TZOFFSETFROM:+0200
END:DAYLIGHT
END:VTIMEZONE
END:VCALENDAR
