BEGIN:VCALENDAR
PRODID:-//eluceo/ical//2.0/EN
VERSION:2.0
CALSCALE:GREGORIAN
BEGIN:VEVENT
UID:e409699e94c3011d5c88ab7f574c44df
DTSTAMP:20260421T120317Z
SUMMARY:10:30 Vorstandssitzung / 11:15 Kommissionen / 12:15 Referat "aktuel
 ler Stand Gründung Rotaract Baden"
DESCRIPTION:
URL:https://rotary-heitersberg.ch/it/agenda/show/42609
DTSTART;TZID=Europe/Zurich:20150219T000000
DTEND;TZID=Europe/Zurich:20150219T000000
LOCATION:Gasthof Sternen
CATEGORIES:Rotary
END:VEVENT
BEGIN:VTIMEZONE
TZID:Europe/Zurich
BEGIN:STANDARD
DTSTART:20150219T000000
TZNAME:CET
TZOFFSETTO:+0100
TZOFFSETFROM:+0100
END:STANDARD
END:VTIMEZONE
END:VCALENDAR
