BEGIN:VCALENDAR
PRODID:-//eluceo/ical//2.0/EN
VERSION:2.0
CALSCALE:GREGORIAN
BEGIN:VEVENT
UID:13767816df885a6ab9e0a9e96d23d814
DTSTAMP:20260422T020727Z
SUMMARY:Plauderlunch
DESCRIPTION:
URL:https://rotary-heitersberg.ch/it/agenda/show/136607
DTSTART;TZID=Europe/Zurich:20211223T121500
DTEND;TZID=Europe/Zurich:20211223T140000
LOCATION:Gasthof Sternen - Wettingen\, Klosterstrasse 9\, 5430 Wettingen
CATEGORIES:Rotary
END:VEVENT
BEGIN:VTIMEZONE
TZID:Europe/Zurich
BEGIN:STANDARD
DTSTART:20211223T121500
TZNAME:CET
TZOFFSETTO:+0100
TZOFFSETFROM:+0100
END:STANDARD
END:VTIMEZONE
END:VCALENDAR
