BEGIN:VCALENDAR
PRODID:-//eluceo/ical//2.0/EN
VERSION:2.0
CALSCALE:GREGORIAN
BEGIN:VEVENT
UID:936b5cf2547bf43ff5bd67697be348ea
DTSTAMP:20260422T060023Z
SUMMARY:Kein Lunch (Fronleichnam)
DESCRIPTION:
URL:https://rotary-heitersberg.ch/it/agenda/show/136187
DTSTART;TZID=Europe/Zurich:20220616T121500
DTEND;TZID=Europe/Zurich:20220616T140000
LOCATION:Gasthof Sternen - Wettingen\, Klosterstrasse 9\, 5430 Wettingen
CATEGORIES:Rotary
END:VEVENT
BEGIN:VTIMEZONE
TZID:Europe/Zurich
BEGIN:DAYLIGHT
DTSTART:20220616T121500
TZNAME:CEST
TZOFFSETTO:+0200
TZOFFSETFROM:+0200
END:DAYLIGHT
END:VTIMEZONE
END:VCALENDAR
