BEGIN:VCALENDAR
PRODID:-//eluceo/ical//2.0/EN
VERSION:2.0
CALSCALE:GREGORIAN
BEGIN:VEVENT
UID:b3ef2139c0818d3f74cdd1d1780dfbac
DTSTAMP:20260425T032330Z
SUMMARY:12:15 Plauderlunch
DESCRIPTION:
URL:https://rotary-heitersberg.ch/is/agenda/show/61523
DTSTART;TZID=Europe/Zurich:20160609T121500
DTEND;TZID=Europe/Zurich:20160609T121500
LOCATION:Gasthof Sternen
CATEGORIES:Rotary
END:VEVENT
BEGIN:VTIMEZONE
TZID:Europe/Zurich
BEGIN:DAYLIGHT
DTSTART:20160609T121500
TZNAME:CEST
TZOFFSETTO:+0200
TZOFFSETFROM:+0200
END:DAYLIGHT
END:VTIMEZONE
END:VCALENDAR
