BEGIN:VCALENDAR
PRODID:-//eluceo/ical//2.0/EN
VERSION:2.0
CALSCALE:GREGORIAN
BEGIN:VEVENT
UID:e27cddca52f4d2089ef6a8ea0b34cf97
DTSTAMP:20260422T133405Z
SUMMARY:Lunch bei Rot. Nik Meier
DESCRIPTION:Fyrirlesari(ar): Nik Meier
URL:https://rotary-heitersberg.ch/is/agenda/show/20934
DTSTART;TZID=Europe/Zurich:20120301T113000
DTEND;TZID=Europe/Zurich:20120301T113000
LOCATION:NILO Schreinerei Küchenbau AG\, Kreuzkapellenweg 2\, 5430 Wetting
 en
CATEGORIES:Rotary
END:VEVENT
BEGIN:VTIMEZONE
TZID:Europe/Zurich
BEGIN:STANDARD
DTSTART:20120301T113000
TZNAME:CET
TZOFFSETTO:+0100
TZOFFSETFROM:+0100
END:STANDARD
END:VTIMEZONE
END:VCALENDAR
