BEGIN:VCALENDAR
PRODID:-//eluceo/ical//2.0/EN
VERSION:2.0
CALSCALE:GREGORIAN
BEGIN:VEVENT
UID:1f529d2c6e8e1eff95305099c595267e
DTSTAMP:20260422T095611Z
SUMMARY:Plauderlunch
DESCRIPTION:
URL:https://rotary-heitersberg.ch/is/agenda/show/20397
DTSTART;TZID=Europe/Zurich:20120209T121500
DTEND;TZID=Europe/Zurich:20120209T121500
LOCATION:Restaurant Tägerhard
CATEGORIES:Rotary
END:VEVENT
BEGIN:VTIMEZONE
TZID:Europe/Zurich
BEGIN:STANDARD
DTSTART:20120209T121500
TZNAME:CET
TZOFFSETTO:+0100
TZOFFSETFROM:+0100
END:STANDARD
END:VTIMEZONE
END:VCALENDAR
