BEGIN:VCALENDAR
PRODID:-//eluceo/ical//2.0/EN
VERSION:2.0
CALSCALE:GREGORIAN
BEGIN:VEVENT
UID:06fcd67068ef879cd52986a981c5c4a1
DTSTAMP:20260422T125822Z
SUMMARY:Besuch des Governors
DESCRIPTION:Fyrirlesari(ar): Rocco Olgiati
URL:https://rotary-heitersberg.ch/is/agenda/show/19259
DTSTART;TZID=Europe/Zurich:20111103T121500
DTEND;TZID=Europe/Zurich:20111103T121500
LOCATION:Gasthof Sternen
CATEGORIES:Rotary
END:VEVENT
BEGIN:VTIMEZONE
TZID:Europe/Zurich
BEGIN:STANDARD
DTSTART:20111103T121500
TZNAME:CET
TZOFFSETTO:+0100
TZOFFSETFROM:+0100
END:STANDARD
END:VTIMEZONE
END:VCALENDAR
