BEGIN:VCALENDAR
PRODID:-//eluceo/ical//2.0/EN
VERSION:2.0
CALSCALE:GREGORIAN
BEGIN:VEVENT
UID:0a2ddfb1fba9852cba7783f88259d656
DTSTAMP:20260422T073105Z
SUMMARY:"14. Fredi's Rotary Grümpi"
DESCRIPTION:
URL:https://rotary-heitersberg.ch/is/agenda/show/160565
DTSTART;TZID=Europe/Zurich:20230819T080000
DTEND;TZID=Europe/Zurich:20230819T160000
LOCATION:Schulhaus Margeläcker Wettingen
CATEGORIES:Rotary
END:VEVENT
BEGIN:VTIMEZONE
TZID:Europe/Zurich
BEGIN:DAYLIGHT
DTSTART:20230819T080000
TZNAME:CEST
TZOFFSETTO:+0200
TZOFFSETFROM:+0200
END:DAYLIGHT
END:VTIMEZONE
END:VCALENDAR
