BEGIN:VCALENDAR
PRODID:-//eluceo/ical//2.0/EN
VERSION:2.0
CALSCALE:GREGORIAN
BEGIN:VEVENT
UID:cb494cc8183cf179d1308afa46dd702a
DTSTAMP:20260423T103422Z
SUMMARY:Vorstellung KidsCamp 2022
DESCRIPTION:Fyrirlesari(ar): -  Sandra Jedrzejewski\n\n\n\n- Philipp Töll
 e     
URL:https://rotary-heitersberg.ch/is/agenda/show/136186
DTSTART;TZID=Europe/Zurich:20220519T121500
DTEND;TZID=Europe/Zurich:20220519T140000
LOCATION:Gasthof Sternen - Wettingen\, Klosterstrasse 9\, 5430 Wettingen
CATEGORIES:Rotary
END:VEVENT
BEGIN:VTIMEZONE
TZID:Europe/Zurich
BEGIN:DAYLIGHT
DTSTART:20220519T121500
TZNAME:CEST
TZOFFSETTO:+0200
TZOFFSETFROM:+0200
END:DAYLIGHT
END:VTIMEZONE
END:VCALENDAR
