BEGIN:VCALENDAR
PRODID:-//eluceo/ical//2.0/EN
VERSION:2.0
CALSCALE:GREGORIAN
BEGIN:VEVENT
UID:fde64bd69b82666d14dace697a22eebc
DTSTAMP:20260421T211415Z
SUMMARY:Plauderlunch
DESCRIPTION:
URL:https://rotary-heitersberg.ch/is/agenda/show/136167
DTSTART;TZID=Europe/Zurich:20220203T121500
DTEND;TZID=Europe/Zurich:20220203T140000
LOCATION:Gasthof Sternen - Wettingen\, Klosterstrasse 9\, 5430 Wettingen
CATEGORIES:Rotary
END:VEVENT
BEGIN:VTIMEZONE
TZID:Europe/Zurich
BEGIN:STANDARD
DTSTART:20220203T121500
TZNAME:CET
TZOFFSETTO:+0100
TZOFFSETFROM:+0100
END:STANDARD
END:VTIMEZONE
END:VCALENDAR
