BEGIN:VCALENDAR
PRODID:-//eluceo/ical//2.0/EN
VERSION:2.0
CALSCALE:GREGORIAN
BEGIN:VEVENT
UID:f7db637887dabc2667a4db264f0f47dc
DTSTAMP:20260425T175900Z
SUMMARY:Plauderlunch
DESCRIPTION:Text\nConférencier(s): Flavio
URL:https://rotary-heitersberg.ch/fr/agenda/show/64773
DTSTART;TZID=Europe/Zurich:20160707T121500
DTEND;TZID=Europe/Zurich:20160707T121500
LOCATION:Gasthof Sternen
CATEGORIES:Rotary
END:VEVENT
BEGIN:VTIMEZONE
TZID:Europe/Zurich
BEGIN:DAYLIGHT
DTSTART:20160707T121500
TZNAME:CEST
TZOFFSETTO:+0200
TZOFFSETFROM:+0200
END:DAYLIGHT
END:VTIMEZONE
END:VCALENDAR
