BEGIN:VCALENDAR
PRODID:-//eluceo/ical//2.0/EN
VERSION:2.0
CALSCALE:GREGORIAN
BEGIN:VEVENT
UID:a03783c288687b1c518d8c13fd21d31a
DTSTAMP:20260420T064842Z
SUMMARY:12:15 Referat Nadja Felix\, RYLA
DESCRIPTION:
URL:https://rotary-heitersberg.ch/fr/agenda/show/61521
DTSTART;TZID=Europe/Zurich:20160512T121500
DTEND;TZID=Europe/Zurich:20160512T121500
LOCATION:Gasthof Sternen
CATEGORIES:Rotary
END:VEVENT
BEGIN:VTIMEZONE
TZID:Europe/Zurich
BEGIN:DAYLIGHT
DTSTART:20160512T121500
TZNAME:CEST
TZOFFSETTO:+0200
TZOFFSETFROM:+0200
END:DAYLIGHT
END:VTIMEZONE
END:VCALENDAR
