BEGIN:VCALENDAR
PRODID:-//eluceo/ical//2.0/EN
VERSION:2.0
CALSCALE:GREGORIAN
BEGIN:VEVENT
UID:1e8d1844f4ba4126df8a7554d4af7d9d
DTSTAMP:20260424T092904Z
SUMMARY:Referat Rotaract Baden
DESCRIPTION:Conférencier(s): Raphael Signer und Samuel Küng
URL:https://rotary-heitersberg.ch/fr/agenda/show/59889
DTSTART;TZID=Europe/Zurich:20160211T121500
DTEND;TZID=Europe/Zurich:20160211T121500
LOCATION:Gasthof Sternen
CATEGORIES:Rotary
END:VEVENT
BEGIN:VTIMEZONE
TZID:Europe/Zurich
BEGIN:STANDARD
DTSTART:20160211T121500
TZNAME:CET
TZOFFSETTO:+0100
TZOFFSETFROM:+0100
END:STANDARD
END:VTIMEZONE
END:VCALENDAR
