BEGIN:VCALENDAR
PRODID:-//eluceo/ical//2.0/EN
VERSION:2.0
CALSCALE:GREGORIAN
BEGIN:VEVENT
UID:fc0c64810e80aaa987c25205059ecc6a
DTSTAMP:20260420T064015Z
SUMMARY:ABGESAGT 12:15 Referat Ueli Schaerer
DESCRIPTION:Site internet: http://www.orgelbau.ch/site/index.cfm\nConféren
 cier(s): Orgelbauer bei Orgelbau Kuhn AG\, Männedorf
URL:https://rotary-heitersberg.ch/fr/agenda/show/59690
DTSTART;TZID=Europe/Zurich:20160331T121500
DTEND;TZID=Europe/Zurich:20160331T121500
LOCATION:Gasthof Sternen
CATEGORIES:Rotary
END:VEVENT
BEGIN:VTIMEZONE
TZID:Europe/Zurich
BEGIN:DAYLIGHT
DTSTART:20160331T121500
TZNAME:CEST
TZOFFSETTO:+0200
TZOFFSETFROM:+0200
END:DAYLIGHT
END:VTIMEZONE
END:VCALENDAR
