BEGIN:VCALENDAR
PRODID:-//eluceo/ical//2.0/EN
VERSION:2.0
CALSCALE:GREGORIAN
BEGIN:VEVENT
UID:0c7606f80f0aaec746261b5015425048
DTSTAMP:20260420T045739Z
SUMMARY:Charity Golfturnier
DESCRIPTION:
URL:https://rotary-heitersberg.ch/fr/agenda/show/59479
DTSTART;TZID=Europe/Zurich:20160520T000000
DTEND;TZID=Europe/Zurich:20160520T000000
LOCATION:Niederbüren
CATEGORIES:Rotary
END:VEVENT
BEGIN:VTIMEZONE
TZID:Europe/Zurich
BEGIN:DAYLIGHT
DTSTART:20160520T000000
TZNAME:CEST
TZOFFSETTO:+0200
TZOFFSETFROM:+0200
END:DAYLIGHT
END:VTIMEZONE
END:VCALENDAR
