BEGIN:VCALENDAR
PRODID:-//eluceo/ical//2.0/EN
VERSION:2.0
CALSCALE:GREGORIAN
BEGIN:VEVENT
UID:d19fd5dd79789e215cb5a078a8ac17be
DTSTAMP:20260420T045531Z
SUMMARY:12:15 Referat Daniela Berger\, Alt Stadträtin Baden\, Tanzschule
DESCRIPTION:
URL:https://rotary-heitersberg.ch/fr/agenda/show/59400
DTSTART;TZID=Europe/Zurich:20160407T121500
DTEND;TZID=Europe/Zurich:20160407T121500
LOCATION:Gasthof Sternen
CATEGORIES:Rotary
END:VEVENT
BEGIN:VTIMEZONE
TZID:Europe/Zurich
BEGIN:DAYLIGHT
DTSTART:20160407T121500
TZNAME:CEST
TZOFFSETTO:+0200
TZOFFSETFROM:+0200
END:DAYLIGHT
END:VTIMEZONE
END:VCALENDAR
