BEGIN:VCALENDAR
PRODID:-//eluceo/ical//2.0/EN
VERSION:2.0
CALSCALE:GREGORIAN
BEGIN:VEVENT
UID:23f3bb541652a5ac459a13192eed2b71
DTSTAMP:20260424T092612Z
SUMMARY:Regio Dinner
DESCRIPTION:Im Anschluss an den traditionellen Apéro findet neu jeweils am
  letzten Mittwoch im Monat das Regio Dinner statt.
URL:https://rotary-heitersberg.ch/fr/agenda/show/55120
DTSTART;TZID=Europe/Zurich:20151125T000000
DTEND;TZID=Europe/Zurich:20151125T000000
LOCATION:Gasthof Sternen
CATEGORIES:Rotary
END:VEVENT
BEGIN:VTIMEZONE
TZID:Europe/Zurich
BEGIN:STANDARD
DTSTART:20151125T000000
TZNAME:CET
TZOFFSETTO:+0100
TZOFFSETFROM:+0100
END:STANDARD
END:VTIMEZONE
END:VCALENDAR
