BEGIN:VCALENDAR
PRODID:-//eluceo/ical//2.0/EN
VERSION:2.0
CALSCALE:GREGORIAN
BEGIN:VEVENT
UID:4625f3037429d9f793182a77df636504
DTSTAMP:20260424T084739Z
SUMMARY:Regio Dinner
DESCRIPTION:Im Anschluss an den traditionellen Apéro findet neu jeweils am
  letzten Mittwoch im Monat das Regio Dinner statt.
URL:https://rotary-heitersberg.ch/fr/agenda/show/55118
DTSTART;TZID=Europe/Zurich:20150930T000000
DTEND;TZID=Europe/Zurich:20150930T000000
LOCATION:Gasthof Sternen
CATEGORIES:Rotary
END:VEVENT
BEGIN:VTIMEZONE
TZID:Europe/Zurich
BEGIN:DAYLIGHT
DTSTART:20150930T000000
TZNAME:CEST
TZOFFSETTO:+0200
TZOFFSETFROM:+0200
END:DAYLIGHT
END:VTIMEZONE
END:VCALENDAR
