BEGIN:VCALENDAR
PRODID:-//eluceo/ical//2.0/EN
VERSION:2.0
CALSCALE:GREGORIAN
BEGIN:VEVENT
UID:f98bd42e962a4483c36c680ed6036226
DTSTAMP:20260424T093932Z
SUMMARY:11 Uhr Governor\, Vorstand und Kommissionen
DESCRIPTION:
URL:https://rotary-heitersberg.ch/fr/agenda/show/54677
DTSTART;TZID=Europe/Zurich:20151105T110000
DTEND;TZID=Europe/Zurich:20151105T110000
LOCATION:Gasthof Sternen
CATEGORIES:Rotary
END:VEVENT
BEGIN:VTIMEZONE
TZID:Europe/Zurich
BEGIN:STANDARD
DTSTART:20151105T110000
TZNAME:CET
TZOFFSETTO:+0100
TZOFFSETFROM:+0100
END:STANDARD
END:VTIMEZONE
END:VCALENDAR
