BEGIN:VCALENDAR
PRODID:-//eluceo/ical//2.0/EN
VERSION:2.0
CALSCALE:GREGORIAN
BEGIN:VEVENT
UID:a51270461ca91fd037a8e7b4a8f4f0ca
DTSTAMP:20260422T133840Z
SUMMARY:7. Midlifeparty
DESCRIPTION:
URL:https://rotary-heitersberg.ch/fr/agenda/show/54026
DTSTART;TZID=Europe/Zurich:20160116T000000
DTEND;TZID=Europe/Zurich:20160116T000000
LOCATION:Stanzerei Baden
CATEGORIES:Rotary
END:VEVENT
BEGIN:VTIMEZONE
TZID:Europe/Zurich
BEGIN:STANDARD
DTSTART:20160116T000000
TZNAME:CET
TZOFFSETTO:+0100
TZOFFSETFROM:+0100
END:STANDARD
END:VTIMEZONE
END:VCALENDAR
