BEGIN:VCALENDAR
PRODID:-//eluceo/ical//2.0/EN
VERSION:2.0
CALSCALE:GREGORIAN
BEGIN:VEVENT
UID:2110500535b675793a1eee49361c314f
DTSTAMP:20260420T033341Z
SUMMARY:11.30 Uhr Plauderlunch mit vorab Apéro von Walo Benz
DESCRIPTION:
URL:https://rotary-heitersberg.ch/fr/agenda/show/45422
DTSTART;TZID=Europe/Zurich:20141030T113000
DTEND;TZID=Europe/Zurich:20141030T113000
LOCATION:Gasthof Sternen
CATEGORIES:Rotary
END:VEVENT
BEGIN:VTIMEZONE
TZID:Europe/Zurich
BEGIN:STANDARD
DTSTART:20141030T113000
TZNAME:CET
TZOFFSETTO:+0100
TZOFFSETFROM:+0100
END:STANDARD
END:VTIMEZONE
END:VCALENDAR
