BEGIN:VCALENDAR
PRODID:-//eluceo/ical//2.0/EN
VERSION:2.0
CALSCALE:GREGORIAN
BEGIN:VEVENT
UID:c059219972286117629fac8267bdc7fa
DTSTAMP:20260420T012754Z
SUMMARY:18:00 10-Jahre Jubiläumsfeier / Partneranlass
DESCRIPTION:Auf persönliche Einladung
URL:https://rotary-heitersberg.ch/fr/agenda/show/42636
DTSTART;TZID=Europe/Zurich:20141101T180000
DTEND;TZID=Europe/Zurich:20141102T003000
LOCATION:Heitersberg
CATEGORIES:Rotary
END:VEVENT
BEGIN:VTIMEZONE
TZID:Europe/Zurich
BEGIN:STANDARD
DTSTART:20141101T180000
TZNAME:CET
TZOFFSETTO:+0100
TZOFFSETFROM:+0100
END:STANDARD
END:VTIMEZONE
END:VCALENDAR
