BEGIN:VCALENDAR
PRODID:-//eluceo/ical//2.0/EN
VERSION:2.0
CALSCALE:GREGORIAN
BEGIN:VEVENT
UID:5a7e611bd9b1802f89706e93dd34852e
DTSTAMP:20260419T234033Z
SUMMARY:12:15 Referat Brigitte Diggelmann
DESCRIPTION:Conférencier(s): 10 Jahre Rotary Wettingen - Heitersberg.\nEin
  kurzer Rückblick von unserer ersten Präsidentin.
URL:https://rotary-heitersberg.ch/fr/agenda/show/42635
DTSTART;TZID=Europe/Zurich:20141106T000000
DTEND;TZID=Europe/Zurich:20141106T000000
LOCATION:Gasthof Sternen
CATEGORIES:Rotary
END:VEVENT
BEGIN:VTIMEZONE
TZID:Europe/Zurich
BEGIN:STANDARD
DTSTART:20141106T000000
TZNAME:CET
TZOFFSETTO:+0100
TZOFFSETFROM:+0100
END:STANDARD
END:VTIMEZONE
END:VCALENDAR
