BEGIN:VCALENDAR
PRODID:-//eluceo/ical//2.0/EN
VERSION:2.0
CALSCALE:GREGORIAN
BEGIN:VEVENT
UID:11c43b764c602b9349bd3e3c27715092
DTSTAMP:20260419T234650Z
SUMMARY:10:00 End Polio - Distrikt-Veranstaltung
DESCRIPTION:
URL:https://rotary-heitersberg.ch/fr/agenda/show/42633
DTSTART;TZID=Europe/Zurich:20141018T000000
DTEND;TZID=Europe/Zurich:20141018T000000
LOCATION:Universität Basel
CATEGORIES:Rotary
END:VEVENT
BEGIN:VTIMEZONE
TZID:Europe/Zurich
BEGIN:DAYLIGHT
DTSTART:20141018T000000
TZNAME:CEST
TZOFFSETTO:+0200
TZOFFSETFROM:+0200
END:DAYLIGHT
END:VTIMEZONE
END:VCALENDAR
