BEGIN:VCALENDAR
PRODID:-//eluceo/ical//2.0/EN
VERSION:2.0
CALSCALE:GREGORIAN
BEGIN:VEVENT
UID:98588edf4d0716ffe2461b2ef09c78c6
DTSTAMP:20260424T155803Z
SUMMARY:12:15 Referat Mädchenheim Lontué in Chile
DESCRIPTION:Direkthilfe aus der Schweiz (und ihre Herausforderungen)\nConf
 érencier(s): Markus Zwicky
URL:https://rotary-heitersberg.ch/fr/agenda/show/25279
DTSTART;TZID=Europe/Zurich:20120913T121500
DTEND;TZID=Europe/Zurich:20120913T121500
LOCATION:Gasthof Sternen
CATEGORIES:Rotary
END:VEVENT
BEGIN:VTIMEZONE
TZID:Europe/Zurich
BEGIN:DAYLIGHT
DTSTART:20120913T121500
TZNAME:CEST
TZOFFSETTO:+0200
TZOFFSETFROM:+0200
END:DAYLIGHT
END:VTIMEZONE
END:VCALENDAR
