BEGIN:VCALENDAR
PRODID:-//eluceo/ical//2.0/EN
VERSION:2.0
CALSCALE:GREGORIAN
BEGIN:VEVENT
UID:1bc8647bc0009f12c6f9f3f4f75bfdbe
DTSTAMP:20260423T200458Z
SUMMARY:News zur Badenfahrt
DESCRIPTION:Conférencier(s): OK Badenfahrt
URL:https://rotary-heitersberg.ch/fr/agenda/show/159243
DTSTART;TZID=Europe/Zurich:20230706T121500
DTEND;TZID=Europe/Zurich:20230706T140000
LOCATION:Gasthof Sternen - Wettingen\, Klosterstrasse 9\, 5430 Wettingen
CATEGORIES:Rotary
END:VEVENT
BEGIN:VTIMEZONE
TZID:Europe/Zurich
BEGIN:DAYLIGHT
DTSTART:20230706T121500
TZNAME:CEST
TZOFFSETTO:+0200
TZOFFSETFROM:+0200
END:DAYLIGHT
END:VTIMEZONE
END:VCALENDAR
