BEGIN:VCALENDAR
PRODID:-//eluceo/ical//2.0/EN
VERSION:2.0
CALSCALE:GREGORIAN
BEGIN:VEVENT
UID:4204f6522335582d1e5158f0541201ae
DTSTAMP:20260421T185021Z
SUMMARY:Erfahrungsbericht Projekt ROKJ von Rot Kilian Rolli
DESCRIPTION:
URL:https://rotary-heitersberg.ch/fr/agenda/show/136179
DTSTART;TZID=Europe/Zurich:20220421T121500
DTEND;TZID=Europe/Zurich:20220421T140000
LOCATION:Gasthof Sternen - Wettingen\, Klosterstrasse 9\, 5430 Wettingen
CATEGORIES:Rotary
END:VEVENT
BEGIN:VTIMEZONE
TZID:Europe/Zurich
BEGIN:DAYLIGHT
DTSTART:20220421T121500
TZNAME:CEST
TZOFFSETTO:+0200
TZOFFSETFROM:+0200
END:DAYLIGHT
END:VTIMEZONE
END:VCALENDAR
