BEGIN:VCALENDAR
PRODID:-//eluceo/ical//2.0/EN
VERSION:2.0
CALSCALE:GREGORIAN
BEGIN:VEVENT
UID:333d89b7a358d89b71be7ce6e3081d62
DTSTAMP:20260424T060033Z
SUMMARY:12:15 Klassifikationsvortrag Patrick Stäuble
DESCRIPTION:Orador(es): Leiter Center / Vorsitzender der Geschäftsleitung\
 nShoppi Tivoli Management AG
URL:https://rotary-heitersberg.ch/es/agenda/show/59345
DTSTART;TZID=Europe/Zurich:20160204T121500
DTEND;TZID=Europe/Zurich:20160204T121500
LOCATION:Gasthof Sternen
CATEGORIES:Rotary
END:VEVENT
BEGIN:VTIMEZONE
TZID:Europe/Zurich
BEGIN:STANDARD
DTSTART:20160204T121500
TZNAME:CET
TZOFFSETTO:+0100
TZOFFSETFROM:+0100
END:STANDARD
END:VTIMEZONE
END:VCALENDAR
