BEGIN:VCALENDAR
PRODID:-//eluceo/ical//2.0/EN
VERSION:2.0
CALSCALE:GREGORIAN
BEGIN:VEVENT
UID:072a9437184c3650fdc2056aa4a45bea
DTSTAMP:20260423T124633Z
SUMMARY:12.15 Uhr Referat Freddy Blatter\, Tennisschule Aarau West
DESCRIPTION:Orador(es): Vom Balljunge zum Funktionär/Trainer“ des Jahres
  im Aargau 2015
URL:https://rotary-heitersberg.ch/es/agenda/show/58446
DTSTART;TZID=Europe/Zurich:20160225T121500
DTEND;TZID=Europe/Zurich:20160225T121500
LOCATION:Gasthof Sternen
CATEGORIES:Rotary
END:VEVENT
BEGIN:VTIMEZONE
TZID:Europe/Zurich
BEGIN:STANDARD
DTSTART:20160225T121500
TZNAME:CET
TZOFFSETTO:+0100
TZOFFSETFROM:+0100
END:STANDARD
END:VTIMEZONE
END:VCALENDAR
