BEGIN:VCALENDAR
PRODID:-//eluceo/ical//2.0/EN
VERSION:2.0
CALSCALE:GREGORIAN
BEGIN:VEVENT
UID:83ed57364714f72c2b5b1f50d945165f
DTSTAMP:20260424T055111Z
SUMMARY:10.45 Uhr Vorstands- und Kommissionssitzung
DESCRIPTION:
URL:https://rotary-heitersberg.ch/es/agenda/show/53516
DTSTART;TZID=Europe/Zurich:20160225T104500
DTEND;TZID=Europe/Zurich:20160225T104500
LOCATION:Gasthof Sternen
CATEGORIES:Rotary
END:VEVENT
BEGIN:VTIMEZONE
TZID:Europe/Zurich
BEGIN:STANDARD
DTSTART:20160225T104500
TZNAME:CET
TZOFFSETTO:+0100
TZOFFSETFROM:+0100
END:STANDARD
END:VTIMEZONE
END:VCALENDAR
