BEGIN:VCALENDAR
PRODID:-//eluceo/ical//2.0/EN
VERSION:2.0
CALSCALE:GREGORIAN
BEGIN:VEVENT
UID:0f2193496743308cfaf8f43bf90d5ee1
DTSTAMP:20260424T060002Z
SUMMARY:Christmas Lunch bei Christian
DESCRIPTION:
URL:https://rotary-heitersberg.ch/es/agenda/show/53515
DTSTART;TZID=Europe/Zurich:20151217T000000
DTEND;TZID=Europe/Zurich:20151217T000000
LOCATION:Bözen
CATEGORIES:Rotary
END:VEVENT
BEGIN:VTIMEZONE
TZID:Europe/Zurich
BEGIN:STANDARD
DTSTART:20151217T000000
TZNAME:CET
TZOFFSETTO:+0100
TZOFFSETFROM:+0100
END:STANDARD
END:VTIMEZONE
END:VCALENDAR
