BEGIN:VCALENDAR
PRODID:-//eluceo/ical//2.0/EN
VERSION:2.0
CALSCALE:GREGORIAN
BEGIN:VEVENT
UID:a402683b1c3f112473f5b90af27fbe82
DTSTAMP:20260423T001026Z
SUMMARY:"4all-Sterne-Apéro"
DESCRIPTION:
URL:https://rotary-heitersberg.ch/es/agenda/show/48892
DTSTART;TZID=Europe/Zurich:20150506T180000
DTEND;TZID=Europe/Zurich:20150506T180000
LOCATION:Gasthof Sternen
CATEGORIES:Rotary
END:VEVENT
BEGIN:VTIMEZONE
TZID:Europe/Zurich
BEGIN:DAYLIGHT
DTSTART:20150506T180000
TZNAME:CEST
TZOFFSETTO:+0200
TZOFFSETFROM:+0200
END:DAYLIGHT
END:VTIMEZONE
END:VCALENDAR
