BEGIN:VCALENDAR
PRODID:-//eluceo/ical//2.0/EN
VERSION:2.0
CALSCALE:GREGORIAN
BEGIN:VEVENT
UID:c92d6a853b98f14203cb04f720b2f5a6
DTSTAMP:20260419T135446Z
SUMMARY:18:00 4all-Sterne-Apéro sponsored by Baden-Rohrdorferberg
DESCRIPTION:
URL:https://rotary-heitersberg.ch/es/agenda/show/42618
DTSTART;TZID=Europe/Zurich:20140730T000000
DTEND;TZID=Europe/Zurich:20140730T000000
LOCATION:Gasthof Sternen
CATEGORIES:Rotary
END:VEVENT
BEGIN:VTIMEZONE
TZID:Europe/Zurich
BEGIN:DAYLIGHT
DTSTART:20140730T000000
TZNAME:CEST
TZOFFSETTO:+0200
TZOFFSETFROM:+0200
END:DAYLIGHT
END:VTIMEZONE
END:VCALENDAR
