BEGIN:VCALENDAR
PRODID:-//eluceo/ical//2.0/EN
VERSION:2.0
CALSCALE:GREGORIAN
BEGIN:VEVENT
UID:ba908c0bc6f223daa57dbb634eac09a5
DTSTAMP:20260424T200344Z
SUMMARY:12:15 Plauderlunch
DESCRIPTION:
URL:https://rotary-heitersberg.ch/es/agenda/show/38913
DTSTART;TZID=Europe/Zurich:20140320T000000
DTEND;TZID=Europe/Zurich:20140320T000000
LOCATION:Gasthof Sternen
CATEGORIES:Rotary
END:VEVENT
BEGIN:VTIMEZONE
TZID:Europe/Zurich
BEGIN:STANDARD
DTSTART:20140320T000000
TZNAME:CET
TZOFFSETTO:+0100
TZOFFSETFROM:+0100
END:STANDARD
END:VTIMEZONE
END:VCALENDAR
