BEGIN:VCALENDAR
PRODID:-//eluceo/ical//2.0/EN
VERSION:2.0
CALSCALE:GREGORIAN
BEGIN:VEVENT
UID:a39d177835bfbfd146902df4d4ca903b
DTSTAMP:20260419T230607Z
SUMMARY:12:15 Plauderlunch 
DESCRIPTION:
URL:https://rotary-heitersberg.ch/es/agenda/show/35572
DTSTART;TZID=Europe/Zurich:20140109T000000
DTEND;TZID=Europe/Zurich:20140109T000000
LOCATION:Gasthof Sternen
CATEGORIES:Rotary
END:VEVENT
BEGIN:VTIMEZONE
TZID:Europe/Zurich
BEGIN:STANDARD
DTSTART:20140109T000000
TZNAME:CET
TZOFFSETTO:+0100
TZOFFSETFROM:+0100
END:STANDARD
END:VTIMEZONE
END:VCALENDAR
