BEGIN:VCALENDAR
PRODID:-//eluceo/ical//2.0/EN
VERSION:2.0
CALSCALE:GREGORIAN
BEGIN:VEVENT
UID:b673e02954f1990c0112620b02d7006e
DTSTAMP:20260419T124656Z
SUMMARY:11:00 Lunch by Iftest AG\, anschliessend 12:30 Mittagessen Rest. St
 ernen
DESCRIPTION:Orador(es): Christian Kupper
URL:https://rotary-heitersberg.ch/es/agenda/show/35571
DTSTART;TZID=Europe/Zurich:20131205T110000
DTEND;TZID=Europe/Zurich:20131205T110000
LOCATION:Iftest AG / Gasthof Sternen
CATEGORIES:Rotary
END:VEVENT
BEGIN:VTIMEZONE
TZID:Europe/Zurich
BEGIN:STANDARD
DTSTART:20131205T110000
TZNAME:CET
TZOFFSETTO:+0100
TZOFFSETFROM:+0100
END:STANDARD
END:VTIMEZONE
END:VCALENDAR
