BEGIN:VCALENDAR
PRODID:-//eluceo/ical//2.0/EN
VERSION:2.0
CALSCALE:GREGORIAN
BEGIN:VEVENT
UID:2e5ccd2192f05c88d3b2c40437513715
DTSTAMP:20260423T203206Z
SUMMARY:12:15 Referat Wieso Genossenschafter die besseren Liebhaber sind. E
 ine Annäherung
DESCRIPTION:Orador(es): Rot. Michael Ammann\, CEO Gartenbaugenossenschaft Z
 ürich 
URL:https://rotary-heitersberg.ch/es/agenda/show/25994
DTSTART;TZID=Europe/Zurich:20121108T121500
DTEND;TZID=Europe/Zurich:20121108T121500
LOCATION:Gasthof Sternen
CATEGORIES:Rotary
END:VEVENT
BEGIN:VTIMEZONE
TZID:Europe/Zurich
BEGIN:STANDARD
DTSTART:20121108T121500
TZNAME:CET
TZOFFSETTO:+0100
TZOFFSETFROM:+0100
END:STANDARD
END:VTIMEZONE
END:VCALENDAR
