BEGIN:VCALENDAR
PRODID:-//eluceo/ical//2.0/EN
VERSION:2.0
CALSCALE:GREGORIAN
BEGIN:VEVENT
UID:e48dbca5805dc5f5d1d040a32c9b4f80
DTSTAMP:20260424T020244Z
SUMMARY:Neurotarier-Seminar
DESCRIPTION:
URL:https://rotary-heitersberg.ch/es/agenda/show/25393
DTSTART;TZID=Europe/Zurich:20121027T000000
DTEND;TZID=Europe/Zurich:20121027T000000
LOCATION:Lenzburg
CATEGORIES:Rotary
END:VEVENT
BEGIN:VTIMEZONE
TZID:Europe/Zurich
BEGIN:DAYLIGHT
DTSTART:20121027T000000
TZNAME:CEST
TZOFFSETTO:+0200
TZOFFSETFROM:+0200
END:DAYLIGHT
END:VTIMEZONE
END:VCALENDAR
