BEGIN:VCALENDAR
PRODID:-//eluceo/ical//2.0/EN
VERSION:2.0
CALSCALE:GREGORIAN
BEGIN:VEVENT
UID:378989043fd16168b2a49912c325f637
DTSTAMP:20260423T203511Z
SUMMARY:12:15 Klassifikationsvortrag von Susanne Schläpfer-Voser
DESCRIPTION:Orador(es): Susanne Schläpfer-Voser
URL:https://rotary-heitersberg.ch/es/agenda/show/25391
DTSTART;TZID=Europe/Zurich:20121018T121500
DTEND;TZID=Europe/Zurich:20121018T121500
LOCATION:Gasthof Sternen
CATEGORIES:Rotary
END:VEVENT
BEGIN:VTIMEZONE
TZID:Europe/Zurich
BEGIN:DAYLIGHT
DTSTART:20121018T121500
TZNAME:CEST
TZOFFSETTO:+0200
TZOFFSETFROM:+0200
END:DAYLIGHT
END:VTIMEZONE
END:VCALENDAR
