BEGIN:VCALENDAR
PRODID:-//eluceo/ical//2.0/EN
VERSION:2.0
CALSCALE:GREGORIAN
BEGIN:VEVENT
UID:c2c481a8858855fe0af9f140b20c9139
DTSTAMP:20260424T040211Z
SUMMARY:Kommissionen
DESCRIPTION:Gemäss Traktandenliste
URL:https://rotary-heitersberg.ch/es/agenda/show/19407
DTSTART;TZID=Europe/Zurich:20111020T111500
DTEND;TZID=Europe/Zurich:20111020T111500
LOCATION:Gasthof Sternen
CATEGORIES:Rotary
END:VEVENT
BEGIN:VTIMEZONE
TZID:Europe/Zurich
BEGIN:DAYLIGHT
DTSTART:20111020T111500
TZNAME:CEST
TZOFFSETTO:+0200
TZOFFSETFROM:+0200
END:DAYLIGHT
END:VTIMEZONE
END:VCALENDAR
