BEGIN:VCALENDAR
PRODID:-//eluceo/ical//2.0/EN
VERSION:2.0
CALSCALE:GREGORIAN
BEGIN:VEVENT
UID:c328ba4e37aa076c7099a36dafe84c71
DTSTAMP:20260423T215915Z
SUMMARY:Klassifikationsvortrag
DESCRIPTION:Orador(es): Rot. Roger Loosli
URL:https://rotary-heitersberg.ch/es/agenda/show/19260
DTSTART;TZID=Europe/Zurich:20111110T121500
DTEND;TZID=Europe/Zurich:20111110T121500
LOCATION:Gasthof Sternen
CATEGORIES:Rotary
END:VEVENT
BEGIN:VTIMEZONE
TZID:Europe/Zurich
BEGIN:STANDARD
DTSTART:20111110T121500
TZNAME:CET
TZOFFSETTO:+0100
TZOFFSETFROM:+0100
END:STANDARD
END:VTIMEZONE
END:VCALENDAR
